Package: DEsingle Version: 1.22.0 Command: /Library/Frameworks/R.framework/Resources/bin/R CMD check --install=check:DEsingle.install-out.txt --library=/Library/Frameworks/R.framework/Resources/library --no-vignettes --timings DEsingle_1.22.0.tar.gz StartedAt: 2024-04-17 11:45:54 -0400 (Wed, 17 Apr 2024) EndedAt: 2024-04-17 11:49:10 -0400 (Wed, 17 Apr 2024) EllapsedTime: 196.8 seconds RetCode: 0 Status: OK CheckDir: DEsingle.Rcheck Warnings: 0