Package: DEsingle Version: 1.22.0 Command: /Library/Frameworks/R.framework/Resources/bin/R CMD INSTALL DEsingle StartedAt: 2024-04-16 12:06:40 -0400 (Tue, 16 Apr 2024) EndedAt: 2024-04-16 12:06:49 -0400 (Tue, 16 Apr 2024) EllapsedTime: 9.8 seconds RetCode: 0 Status: OK