Package: DNAcopy Version: 1.76.0 Command: rm -rf DNAcopy.buildbin-libdir && mkdir DNAcopy.buildbin-libdir && /Users/biocbuild/BBS/utils/build-universal.sh DNAcopy_1.76.0.tar.gz /Library/Frameworks/R.framework/Resources/bin/R DNAcopy.buildbin-libdir StartedAt: 2024-04-18 09:03:51 -0400 (Thu, 18 Apr 2024) EndedAt: 2024-04-18 09:04:05 -0400 (Thu, 18 Apr 2024) EllapsedTime: 13.7 seconds RetCode: 0 Status: OK PackageFile: DNAcopy_1.76.0.tgz PackageFileSize: 500 KiB