Package: Doscheda Version: 1.24.0 Command: rm -rf Doscheda.buildbin-libdir && mkdir Doscheda.buildbin-libdir && /Users/biocbuild/BBS/utils/build-universal.sh Doscheda_1.24.0.tar.gz /Library/Frameworks/R.framework/Resources/bin/R Doscheda.buildbin-libdir StartedAt: 2024-04-18 09:04:15 -0400 (Thu, 18 Apr 2024) EndedAt: 2024-04-18 09:04:39 -0400 (Thu, 18 Apr 2024) EllapsedTime: 23.8 seconds RetCode: 0 Status: OK PackageFile: Doscheda_1.24.0.tgz PackageFileSize: 4.592 MiB