Package: Doscheda Version: 1.24.0 Command: /Library/Frameworks/R.framework/Resources/bin/R CMD check --install=check:Doscheda.install-out.txt --library=/Library/Frameworks/R.framework/Resources/library --no-vignettes --timings Doscheda_1.24.0.tar.gz StartedAt: 2024-04-17 12:14:37 -0400 (Wed, 17 Apr 2024) EndedAt: 2024-04-17 12:17:46 -0400 (Wed, 17 Apr 2024) EllapsedTime: 188.9 seconds RetCode: 0 Status: OK CheckDir: Doscheda.Rcheck Warnings: 0