Package: DynDoc Version: 1.80.0 Command: /Library/Frameworks/R.framework/Resources/bin/R CMD check --install=check:DynDoc.install-out.txt --library=/Library/Frameworks/R.framework/Resources/library --no-vignettes --timings DynDoc_1.80.0.tar.gz StartedAt: 2024-04-17 12:31:33 -0400 (Wed, 17 Apr 2024) EndedAt: 2024-04-17 12:31:59 -0400 (Wed, 17 Apr 2024) EllapsedTime: 26.2 seconds RetCode: 0 Status: OK CheckDir: DynDoc.Rcheck Warnings: 0