Package: ENmix Version: 1.38.01 Command: rm -rf ENmix.buildbin-libdir && mkdir ENmix.buildbin-libdir && /Users/biocbuild/BBS/utils/build-universal.sh ENmix_1.38.01.tar.gz /Library/Frameworks/R.framework/Resources/bin/R ENmix.buildbin-libdir StartedAt: 2024-04-18 09:08:41 -0400 (Thu, 18 Apr 2024) EndedAt: 2024-04-18 09:10:03 -0400 (Thu, 18 Apr 2024) EllapsedTime: 82.0 seconds RetCode: 0 Status: OK PackageFile: ENmix_1.38.01.tgz PackageFileSize: 19.7 MiB