Package: ENmix Version: 1.38.01 Command: /Library/Frameworks/R.framework/Resources/bin/R CMD check --install=check:ENmix.install-out.txt --library=/Library/Frameworks/R.framework/Resources/library --no-vignettes --timings ENmix_1.38.01.tar.gz StartedAt: 2024-04-17 12:47:39 -0400 (Wed, 17 Apr 2024) EndedAt: 2024-04-17 12:54:25 -0400 (Wed, 17 Apr 2024) EllapsedTime: 405.8 seconds RetCode: 0 Status: OK CheckDir: ENmix.Rcheck Warnings: 0