Package: EnrichmentBrowser
Version: 2.32.0
Command: /Library/Frameworks/R.framework/Resources/bin/R CMD INSTALL EnrichmentBrowser
StartedAt: 2024-04-16 10:40:39 -0400 (Tue, 16 Apr 2024)
EndedAt: 2024-04-16 10:41:18 -0400 (Tue, 16 Apr 2024)
EllapsedTime: 39.2 seconds
RetCode: 0
Status: OK