Package: EpiTxDb Version: 1.14.1 Command: /Library/Frameworks/R.framework/Resources/bin/R CMD check --install=check:EpiTxDb.install-out.txt --library=/Library/Frameworks/R.framework/Resources/library --no-vignettes --timings EpiTxDb_1.14.1.tar.gz StartedAt: 2024-04-17 13:10:34 -0400 (Wed, 17 Apr 2024) EndedAt: 2024-04-17 13:16:32 -0400 (Wed, 17 Apr 2024) EllapsedTime: 357.7 seconds RetCode: 0 Status: OK CheckDir: EpiTxDb.Rcheck Warnings: 0