Package: EpiTxDb Version: 1.14.1 Command: /Library/Frameworks/R.framework/Resources/bin/R CMD INSTALL EpiTxDb StartedAt: 2024-04-16 11:18:22 -0400 (Tue, 16 Apr 2024) EndedAt: 2024-04-16 11:19:18 -0400 (Tue, 16 Apr 2024) EllapsedTime: 56.4 seconds RetCode: 0 Status: OK