Package: EventPointer Version: 3.10.0 Command: rm -rf EventPointer.buildbin-libdir && mkdir EventPointer.buildbin-libdir && /Users/biocbuild/BBS/utils/build-universal.sh EventPointer_3.10.0.tar.gz /Library/Frameworks/R.framework/Resources/bin/R EventPointer.buildbin-libdir StartedAt: 2024-04-18 09:14:17 -0400 (Thu, 18 Apr 2024) EndedAt: 2024-04-18 09:15:40 -0400 (Thu, 18 Apr 2024) EllapsedTime: 82.9 seconds RetCode: 0 Status: OK PackageFile: EventPointer_3.10.0.tgz PackageFileSize: 1.312 MiB