Package: GA4GHclient Version: 1.26.0 Command: rm -rf GA4GHclient.buildbin-libdir && mkdir GA4GHclient.buildbin-libdir && /Users/biocbuild/BBS/utils/build-universal.sh GA4GHclient_1.26.0.tar.gz /Library/Frameworks/R.framework/Resources/bin/R GA4GHclient.buildbin-libdir StartedAt: 2024-04-18 09:21:29 -0400 (Thu, 18 Apr 2024) EndedAt: 2024-04-18 09:22:31 -0400 (Thu, 18 Apr 2024) EllapsedTime: 61.3 seconds RetCode: 0 Status: OK PackageFile: GA4GHclient_1.26.0.tgz PackageFileSize: 753.8 KiB