Package: GA4GHclient Version: 1.26.0 Command: /Library/Frameworks/R.framework/Resources/bin/R CMD check --install=check:GA4GHclient.install-out.txt --library=/Library/Frameworks/R.framework/Resources/library --no-vignettes --timings GA4GHclient_1.26.0.tar.gz StartedAt: 2024-04-17 14:09:26 -0400 (Wed, 17 Apr 2024) EndedAt: 2024-04-17 14:15:07 -0400 (Wed, 17 Apr 2024) EllapsedTime: 341.3 seconds RetCode: 0 Status: OK CheckDir: GA4GHclient.Rcheck Warnings: 0