Package: GA4GHclient Version: 1.26.0 Command: /Library/Frameworks/R.framework/Resources/bin/R CMD INSTALL GA4GHclient StartedAt: 2024-04-16 11:10:17 -0400 (Tue, 16 Apr 2024) EndedAt: 2024-04-16 11:11:08 -0400 (Tue, 16 Apr 2024) EllapsedTime: 50.8 seconds RetCode: 0 Status: OK