Package: GEM Version: 1.28.0 Maintainer: Hong Pan MaintainerEmail: pan_hong at sics.a-star.edu.sg git_url: https://git.bioconductor.org/packages/GEM git_branch: RELEASE_3_18 git_last_commit: fe6542f git_last_commit_date: 2023-10-24 10:50:40 -0400 (Tue, 24 Oct 2023)