Package: GGPA Version: 1.14.0 Command: rm -rf GGPA.buildbin-libdir && mkdir GGPA.buildbin-libdir && /Users/biocbuild/BBS/utils/build-universal.sh GGPA_1.14.0.tar.gz /Library/Frameworks/R.framework/Resources/bin/R GGPA.buildbin-libdir StartedAt: 2024-04-18 09:30:26 -0400 (Thu, 18 Apr 2024) EndedAt: 2024-04-18 09:31:11 -0400 (Thu, 18 Apr 2024) EllapsedTime: 45.2 seconds RetCode: 0 Status: OK PackageFile: GGPA_1.14.0.tgz PackageFileSize: 2.862 MiB