Package: GGPA Version: 1.14.0 Command: /Library/Frameworks/R.framework/Resources/bin/R CMD build --keep-empty-dirs --no-resave-data GGPA StartedAt: 2024-04-16 18:59:39 -0400 (Tue, 16 Apr 2024) EndedAt: 2024-04-16 19:01:02 -0400 (Tue, 16 Apr 2024) EllapsedTime: 83.5 seconds RetCode: 0 Status: OK PackageFile: GGPA_1.14.0.tar.gz PackageFileSize: 4.712 MiB