Package: GOsummaries Version: 2.38.0 Command: /Library/Frameworks/R.framework/Resources/bin/R CMD build --keep-empty-dirs --no-resave-data GOsummaries StartedAt: 2024-04-16 19:26:18 -0400 (Tue, 16 Apr 2024) EndedAt: 2024-04-16 19:26:37 -0400 (Tue, 16 Apr 2024) EllapsedTime: 19.6 seconds RetCode: 1 Status: ERROR PackageFile: None PackageFileSize: NA