Package: GOsummaries Version: 2.37.0 Command: /Library/Frameworks/R.framework/Resources/bin/R CMD check --install=check:GOsummaries.install-out.txt --library=/Library/Frameworks/R.framework/Resources/library --no-vignettes --timings GOsummaries_2.37.0.tar.gz StartedAt: 2023-06-20 14:13:55 -0400 (Tue, 20 Jun 2023) EndedAt: 2023-06-20 14:13:55 -0400 (Tue, 20 Jun 2023) EllapsedTime: 0.0 seconds RetCode: 127 Status: ERROR CheckDir: None Warnings: NA