Package: GeneMeta Version: 1.74.0 Command: rm -rf GeneMeta.buildbin-libdir && mkdir GeneMeta.buildbin-libdir && /Users/biocbuild/BBS/utils/build-universal.sh GeneMeta_1.74.0.tar.gz /Library/Frameworks/R.framework/Resources/bin/R GeneMeta.buildbin-libdir StartedAt: 2024-04-18 09:24:49 -0400 (Thu, 18 Apr 2024) EndedAt: 2024-04-18 09:25:17 -0400 (Thu, 18 Apr 2024) EllapsedTime: 28.4 seconds RetCode: 0 Status: OK PackageFile: GeneMeta_1.74.0.tgz PackageFileSize: 2.738 MiB