Package: GenomicAlignments Version: 1.38.2 Command: /Library/Frameworks/R.framework/Resources/bin/R CMD INSTALL GenomicAlignments StartedAt: 2024-04-16 10:43:57 -0400 (Tue, 16 Apr 2024) EndedAt: 2024-04-16 10:44:40 -0400 (Tue, 16 Apr 2024) EllapsedTime: 42.5 seconds RetCode: 0 Status: OK