Package: GenomicInteractions Version: 1.36.0 Command: /Library/Frameworks/R.framework/Resources/bin/R CMD INSTALL GenomicInteractions StartedAt: 2024-04-16 11:34:09 -0400 (Tue, 16 Apr 2024) EndedAt: 2024-04-16 11:35:56 -0400 (Tue, 16 Apr 2024) EllapsedTime: 107.4 seconds RetCode: 0 Status: OK