Package: GenomicPlot Version: 1.0.8 Command: rm -rf GenomicPlot.buildbin-libdir && mkdir GenomicPlot.buildbin-libdir && /Users/biocbuild/BBS/utils/build-universal.sh GenomicPlot_1.0.8.tar.gz /Library/Frameworks/R.framework/Resources/bin/R GenomicPlot.buildbin-libdir StartedAt: 2024-04-18 09:27:50 -0400 (Thu, 18 Apr 2024) EndedAt: 2024-04-18 09:29:09 -0400 (Thu, 18 Apr 2024) EllapsedTime: 78.6 seconds RetCode: 0 Status: OK PackageFile: GenomicPlot_1.0.8.tgz PackageFileSize: 4.108 MiB