Package: GenomicPlot Version: 1.0.8 Command: /Library/Frameworks/R.framework/Resources/bin/R CMD build --keep-empty-dirs --no-resave-data GenomicPlot StartedAt: 2024-04-16 18:50:01 -0400 (Tue, 16 Apr 2024) EndedAt: 2024-04-16 18:52:47 -0400 (Tue, 16 Apr 2024) EllapsedTime: 165.5 seconds RetCode: 0 Status: OK PackageFile: GenomicPlot_1.0.8.tar.gz PackageFileSize: 3.969 MiB