Package: GenomicPlot Version: 1.0.8 Command: /Library/Frameworks/R.framework/Resources/bin/R CMD INSTALL GenomicPlot StartedAt: 2024-04-16 12:45:50 -0400 (Tue, 16 Apr 2024) EndedAt: 2024-04-16 12:46:54 -0400 (Tue, 16 Apr 2024) EllapsedTime: 63.4 seconds RetCode: 0 Status: OK