Package: GenomicScores
Version: 2.14.3
Command: /Library/Frameworks/R.framework/Resources/bin/R CMD build --keep-empty-dirs --no-resave-data GenomicScores
StartedAt: 2024-04-16 18:51:42 -0400 (Tue, 16 Apr 2024)
EndedAt: 2024-04-16 18:54:02 -0400 (Tue, 16 Apr 2024)
EllapsedTime: 139.7 seconds
RetCode: 0
Status: OK
PackageFile: GenomicScores_2.14.3.tar.gz
PackageFileSize: 1.642 <A href="http://en.wikipedia.org/wiki/MiB" target="_blank">MiB</A>