Package: GenomicSuperSignature Version: 1.10.0 Command: /Library/Frameworks/R.framework/Resources/bin/R CMD check --install=check:GenomicSuperSignature.install-out.txt --library=/Library/Frameworks/R.framework/Resources/library --no-vignettes --timings GenomicSuperSignature_1.10.0.tar.gz StartedAt: 2024-04-17 14:56:50 -0400 (Wed, 17 Apr 2024) EndedAt: 2024-04-17 15:02:05 -0400 (Wed, 17 Apr 2024) EllapsedTime: 314.9 seconds RetCode: 0 Status: WARNINGS CheckDir: GenomicSuperSignature.Rcheck Warnings: 2