Package: GenomicTuples Version: 1.36.0 Command: rm -rf GenomicTuples.buildbin-libdir && mkdir GenomicTuples.buildbin-libdir && /Users/biocbuild/BBS/utils/build-universal.sh GenomicTuples_1.36.0.tar.gz /Library/Frameworks/R.framework/Resources/bin/R GenomicTuples.buildbin-libdir StartedAt: 2024-04-18 09:28:30 -0400 (Thu, 18 Apr 2024) EndedAt: 2024-04-18 09:29:15 -0400 (Thu, 18 Apr 2024) EllapsedTime: 44.6 seconds RetCode: 0 Status: OK PackageFile: GenomicTuples_1.36.0.tgz PackageFileSize: 900.5 KiB