Package: GenomicTuples Version: 1.36.0 Command: /Library/Frameworks/R.framework/Resources/bin/R CMD check --install=check:GenomicTuples.install-out.txt --library=/Library/Frameworks/R.framework/Resources/library --no-vignettes --timings GenomicTuples_1.36.0.tar.gz StartedAt: 2024-04-17 14:58:18 -0400 (Wed, 17 Apr 2024) EndedAt: 2024-04-17 15:00:37 -0400 (Wed, 17 Apr 2024) EllapsedTime: 139.2 seconds RetCode: 0 Status: OK CheckDir: GenomicTuples.Rcheck Warnings: 0