Package: HDTD Version: 1.36.0 Command: rm -rf HDTD.buildbin-libdir && mkdir HDTD.buildbin-libdir && /Users/biocbuild/BBS/utils/build-universal.sh HDTD_1.36.0.tar.gz /Library/Frameworks/R.framework/Resources/bin/R HDTD.buildbin-libdir StartedAt: 2024-04-18 09:38:45 -0400 (Thu, 18 Apr 2024) EndedAt: 2024-04-18 09:39:14 -0400 (Thu, 18 Apr 2024) EllapsedTime: 29.1 seconds RetCode: 0 Status: OK PackageFile: HDTD_1.36.0.tgz PackageFileSize: 301.5 KiB