Package: HDTD Version: 1.36.0 Command: /Library/Frameworks/R.framework/Resources/bin/R CMD build --keep-empty-dirs --no-resave-data HDTD StartedAt: 2024-04-16 19:51:12 -0400 (Tue, 16 Apr 2024) EndedAt: 2024-04-16 19:51:35 -0400 (Tue, 16 Apr 2024) EllapsedTime: 23.6 seconds RetCode: 0 Status: OK PackageFile: HDTD_1.36.0.tar.gz PackageFileSize: 162.8 KiB