Package: HERON Version: 1.0.0 Command: rm -rf HERON.buildbin-libdir && mkdir HERON.buildbin-libdir && /Users/biocbuild/BBS/utils/build-universal.sh HERON_1.0.0.tar.gz /Library/Frameworks/R.framework/Resources/bin/R HERON.buildbin-libdir StartedAt: 2024-04-18 09:39:08 -0400 (Thu, 18 Apr 2024) EndedAt: 2024-04-18 09:39:42 -0400 (Thu, 18 Apr 2024) EllapsedTime: 34.4 seconds RetCode: 0 Status: OK PackageFile: HERON_1.0.0.tgz PackageFileSize: 1.069 MiB