Package: HPAanalyze Version: 1.20.0 Command: rm -rf HPAanalyze.buildbin-libdir && mkdir HPAanalyze.buildbin-libdir && /Users/biocbuild/BBS/utils/build-universal.sh HPAanalyze_1.20.0.tar.gz /Library/Frameworks/R.framework/Resources/bin/R HPAanalyze.buildbin-libdir StartedAt: 2024-04-18 09:41:50 -0400 (Thu, 18 Apr 2024) EndedAt: 2024-04-18 09:42:55 -0400 (Thu, 18 Apr 2024) EllapsedTime: 65.6 seconds RetCode: 0 Status: OK PackageFile: HPAanalyze_1.20.0.tgz PackageFileSize: 7.026 MiB