Package: Herper Version: 1.12.0 Command: /Library/Frameworks/R.framework/Resources/bin/R CMD INSTALL Herper StartedAt: 2024-04-16 10:24:03 -0400 (Tue, 16 Apr 2024) EndedAt: 2024-04-16 10:24:11 -0400 (Tue, 16 Apr 2024) EllapsedTime: 8.1 seconds RetCode: 0 Status: OK