Package: HiContacts Version: 1.4.0 Command: rm -rf HiContacts.buildbin-libdir && mkdir HiContacts.buildbin-libdir && /Users/biocbuild/BBS/utils/build-universal.sh HiContacts_1.4.0.tar.gz /Library/Frameworks/R.framework/Resources/bin/R HiContacts.buildbin-libdir StartedAt: 2024-04-18 09:40:10 -0400 (Thu, 18 Apr 2024) EndedAt: 2024-04-18 09:40:56 -0400 (Thu, 18 Apr 2024) EllapsedTime: 45.6 seconds RetCode: 0 Status: OK PackageFile: HiContacts_1.4.0.tgz PackageFileSize: 5.531 MiB