Package: HiTC Version: 1.46.0 Command: /Library/Frameworks/R.framework/Resources/bin/R CMD INSTALL HiTC StartedAt: 2024-04-16 10:50:40 -0400 (Tue, 16 Apr 2024) EndedAt: 2024-04-16 10:51:26 -0400 (Tue, 16 Apr 2024) EllapsedTime: 46.0 seconds RetCode: 0 Status: OK