Package: HumanTranscriptomeCompendium Version: 1.18.1 Command: /Library/Frameworks/R.framework/Resources/bin/R CMD check --install=check:HumanTranscriptomeCompendium.install-out.txt --library=/Library/Frameworks/R.framework/Resources/library --no-vignettes --timings HumanTranscriptomeCompendium_1.18.1.tar.gz StartedAt: 2024-04-14 16:17:02 -0400 (Sun, 14 Apr 2024) EndedAt: 2024-04-14 16:20:59 -0400 (Sun, 14 Apr 2024) EllapsedTime: 236.9 seconds RetCode: 0 Status: OK CheckDir: HumanTranscriptomeCompendium.Rcheck Warnings: 0