Package: ImmuneSpaceR Version: 1.30.0 Command: rm -rf ImmuneSpaceR.buildbin-libdir && mkdir ImmuneSpaceR.buildbin-libdir && /Users/biocbuild/BBS/utils/build-universal.sh ImmuneSpaceR_1.30.0.tar.gz /Library/Frameworks/R.framework/Resources/bin/R ImmuneSpaceR.buildbin-libdir StartedAt: 2024-01-04 09:08:58 -0500 (Thu, 04 Jan 2024) EndedAt: 2024-01-04 09:09:17 -0500 (Thu, 04 Jan 2024) EllapsedTime: 19.2 seconds RetCode: 0 Status: OK PackageFile: ImmuneSpaceR_1.30.0.tgz PackageFileSize: 1.188 MiB