Package: InTAD
Version: 1.22.0
Command: /Library/Frameworks/R.framework/Resources/bin/R CMD INSTALL InTAD
StartedAt: 2024-04-16 12:43:38 -0400 (Tue, 16 Apr 2024)
EndedAt: 2024-04-16 12:44:23 -0400 (Tue, 16 Apr 2024)
EllapsedTime: 45.7 seconds
RetCode: 0
Status: OK