Package: IsoformSwitchAnalyzeR Version: 2.2.0 Command: rm -rf IsoformSwitchAnalyzeR.buildbin-libdir && mkdir IsoformSwitchAnalyzeR.buildbin-libdir && /Users/biocbuild/BBS/utils/build-universal.sh IsoformSwitchAnalyzeR_2.2.0.tar.gz /Library/Frameworks/R.framework/Resources/bin/R IsoformSwitchAnalyzeR.buildbin-libdir StartedAt: 2024-04-18 09:49:44 -0400 (Thu, 18 Apr 2024) EndedAt: 2024-04-18 09:51:19 -0400 (Thu, 18 Apr 2024) EllapsedTime: 95.2 seconds RetCode: 0 Status: OK PackageFile: IsoformSwitchAnalyzeR_2.2.0.tgz PackageFileSize: 7.382 MiB