Package: IsoformSwitchAnalyzeR Version: 2.2.0 Command: /Library/Frameworks/R.framework/Resources/bin/R CMD INSTALL IsoformSwitchAnalyzeR StartedAt: 2024-04-16 13:06:14 -0400 (Tue, 16 Apr 2024) EndedAt: 2024-04-16 13:07:29 -0400 (Tue, 16 Apr 2024) EllapsedTime: 74.5 seconds RetCode: 0 Status: OK