Package: KEGGREST
Version: 1.42.0
Command: /Library/Frameworks/R.framework/Resources/bin/R CMD build --keep-empty-dirs --no-resave-data KEGGREST
StartedAt: 2024-04-16 20:43:15 -0400 (Tue, 16 Apr 2024)
EndedAt: 2024-04-16 20:43:53 -0400 (Tue, 16 Apr 2024)
EllapsedTime: 38.9 seconds
RetCode: 0
Status: OK
PackageFile: KEGGREST_1.42.0.tar.gz
PackageFileSize: 21.9 <A href="http://en.wikipedia.org/wiki/KiB" target="_blank">KiB</A>