Package: KEGGgraph Version: 1.62.0 Command: /Library/Frameworks/R.framework/Resources/bin/R CMD build --keep-empty-dirs --no-resave-data KEGGgraph StartedAt: 2024-04-16 20:42:21 -0400 (Tue, 16 Apr 2024) EndedAt: 2024-04-16 20:43:15 -0400 (Tue, 16 Apr 2024) EllapsedTime: 53.4 seconds RetCode: 0 Status: OK PackageFile: KEGGgraph_1.62.0.tar.gz PackageFileSize: 1.316 MiB