Package: LPEadj Version: 1.62.0 Command: /Library/Frameworks/R.framework/Resources/bin/R CMD build --keep-empty-dirs --no-resave-data LPEadj StartedAt: 2024-04-16 20:52:39 -0400 (Tue, 16 Apr 2024) EndedAt: 2024-04-16 20:52:50 -0400 (Tue, 16 Apr 2024) EllapsedTime: 11.3 seconds RetCode: 0 Status: OK PackageFile: LPEadj_1.62.0.tar.gz PackageFileSize: 1.522 MiB