Package: LoomExperiment
Version: 1.20.0
Command: rm -rf LoomExperiment.buildbin-libdir && mkdir LoomExperiment.buildbin-libdir && /Users/biocbuild/BBS/utils/build-universal.sh LoomExperiment_1.20.0.tar.gz /Library/Frameworks/R.framework/Resources/bin/R LoomExperiment.buildbin-libdir
StartedAt: 2024-04-18 09:53:30 -0400 (Thu, 18 Apr 2024)
EndedAt: 2024-04-18 09:54:13 -0400 (Thu, 18 Apr 2024)
EllapsedTime: 42.9 seconds
RetCode: 0
Status: OK
PackageFile: LoomExperiment_1.20.0.tgz
PackageFileSize: 874.5 <A href="http://en.wikipedia.org/wiki/KiB" target="_blank">KiB</A>