Package: MGFR Version: 1.28.0 Command: /Library/Frameworks/R.framework/Resources/bin/R CMD build --keep-empty-dirs --no-resave-data MGFR StartedAt: 2024-04-16 21:42:07 -0400 (Tue, 16 Apr 2024) EndedAt: 2024-04-16 21:42:46 -0400 (Tue, 16 Apr 2024) EllapsedTime: 39.1 seconds RetCode: 0 Status: OK PackageFile: MGFR_1.28.0.tar.gz PackageFileSize: 1.824 MiB