Package: MLInterfaces Version: 1.82.0 Command: rm -rf MLInterfaces.buildbin-libdir && mkdir MLInterfaces.buildbin-libdir && /Users/biocbuild/BBS/utils/build-universal.sh MLInterfaces_1.82.0.tar.gz /Library/Frameworks/R.framework/Resources/bin/R MLInterfaces.buildbin-libdir StartedAt: 2024-04-18 10:09:55 -0400 (Thu, 18 Apr 2024) EndedAt: 2024-04-18 10:10:44 -0400 (Thu, 18 Apr 2024) EllapsedTime: 49.1 seconds RetCode: 0 Status: OK PackageFile: MLInterfaces_1.82.0.tgz PackageFileSize: 3.21 MiB