Package: MPRAnalyze Version: 1.20.0 Command: /Library/Frameworks/R.framework/Resources/bin/R CMD INSTALL MPRAnalyze StartedAt: 2024-04-16 10:56:57 -0400 (Tue, 16 Apr 2024) EndedAt: 2024-04-16 10:57:27 -0400 (Tue, 16 Apr 2024) EllapsedTime: 30.4 seconds RetCode: 0 Status: OK