Package: MSnbase Version: 2.28.1 Command: /Library/Frameworks/R.framework/Resources/bin/R CMD INSTALL MSnbase StartedAt: 2024-04-16 11:00:48 -0400 (Tue, 16 Apr 2024) EndedAt: 2024-04-16 11:01:39 -0400 (Tue, 16 Apr 2024) EllapsedTime: 50.9 seconds RetCode: 0 Status: OK